BEGIN:VCALENDAR
VERSION:2.0
PRODID:-//Hoboken Children&#039;s Academy - ECPv6.15.20//NONSGML v1.0//EN
CALSCALE:GREGORIAN
METHOD:PUBLISH
X-ORIGINAL-URL:https://www.hobokenca.com
X-WR-CALDESC:Events for Hoboken Children&#039;s Academy
REFRESH-INTERVAL;VALUE=DURATION:PT1H
X-Robots-Tag:noindex
X-PUBLISHED-TTL:PT1H
BEGIN:VTIMEZONE
TZID:America/Halifax
BEGIN:DAYLIGHT
TZOFFSETFROM:-0400
TZOFFSETTO:-0300
TZNAME:ADT
DTSTART:20120311T060000
END:DAYLIGHT
BEGIN:STANDARD
TZOFFSETFROM:-0300
TZOFFSETTO:-0400
TZNAME:AST
DTSTART:20121104T050000
END:STANDARD
BEGIN:DAYLIGHT
TZOFFSETFROM:-0400
TZOFFSETTO:-0300
TZNAME:ADT
DTSTART:20130310T060000
END:DAYLIGHT
BEGIN:STANDARD
TZOFFSETFROM:-0300
TZOFFSETTO:-0400
TZNAME:AST
DTSTART:20131103T050000
END:STANDARD
BEGIN:DAYLIGHT
TZOFFSETFROM:-0400
TZOFFSETTO:-0300
TZNAME:ADT
DTSTART:20140309T060000
END:DAYLIGHT
BEGIN:STANDARD
TZOFFSETFROM:-0300
TZOFFSETTO:-0400
TZNAME:AST
DTSTART:20141102T050000
END:STANDARD
BEGIN:DAYLIGHT
TZOFFSETFROM:-0400
TZOFFSETTO:-0300
TZNAME:ADT
DTSTART:20150308T060000
END:DAYLIGHT
BEGIN:STANDARD
TZOFFSETFROM:-0300
TZOFFSETTO:-0400
TZNAME:AST
DTSTART:20151101T050000
END:STANDARD
BEGIN:DAYLIGHT
TZOFFSETFROM:-0400
TZOFFSETTO:-0300
TZNAME:ADT
DTSTART:20160313T060000
END:DAYLIGHT
BEGIN:STANDARD
TZOFFSETFROM:-0300
TZOFFSETTO:-0400
TZNAME:AST
DTSTART:20161106T050000
END:STANDARD
BEGIN:DAYLIGHT
TZOFFSETFROM:-0400
TZOFFSETTO:-0300
TZNAME:ADT
DTSTART:20170312T060000
END:DAYLIGHT
BEGIN:STANDARD
TZOFFSETFROM:-0300
TZOFFSETTO:-0400
TZNAME:AST
DTSTART:20171105T050000
END:STANDARD
BEGIN:DAYLIGHT
TZOFFSETFROM:-0400
TZOFFSETTO:-0300
TZNAME:ADT
DTSTART:20180311T060000
END:DAYLIGHT
BEGIN:STANDARD
TZOFFSETFROM:-0300
TZOFFSETTO:-0400
TZNAME:AST
DTSTART:20181104T050000
END:STANDARD
BEGIN:DAYLIGHT
TZOFFSETFROM:-0400
TZOFFSETTO:-0300
TZNAME:ADT
DTSTART:20190310T060000
END:DAYLIGHT
BEGIN:STANDARD
TZOFFSETFROM:-0300
TZOFFSETTO:-0400
TZNAME:AST
DTSTART:20191103T050000
END:STANDARD
BEGIN:DAYLIGHT
TZOFFSETFROM:-0400
TZOFFSETTO:-0300
TZNAME:ADT
DTSTART:20200308T060000
END:DAYLIGHT
BEGIN:STANDARD
TZOFFSETFROM:-0300
TZOFFSETTO:-0400
TZNAME:AST
DTSTART:20201101T050000
END:STANDARD
BEGIN:DAYLIGHT
TZOFFSETFROM:-0400
TZOFFSETTO:-0300
TZNAME:ADT
DTSTART:20210314T060000
END:DAYLIGHT
BEGIN:STANDARD
TZOFFSETFROM:-0300
TZOFFSETTO:-0400
TZNAME:AST
DTSTART:20211107T050000
END:STANDARD
END:VTIMEZONE
BEGIN:VTIMEZONE
TZID:America/New_York
BEGIN:DAYLIGHT
TZOFFSETFROM:-0500
TZOFFSETTO:-0400
TZNAME:EDT
DTSTART:20180311T070000
END:DAYLIGHT
BEGIN:STANDARD
TZOFFSETFROM:-0400
TZOFFSETTO:-0500
TZNAME:EST
DTSTART:20181104T060000
END:STANDARD
BEGIN:DAYLIGHT
TZOFFSETFROM:-0500
TZOFFSETTO:-0400
TZNAME:EDT
DTSTART:20190310T070000
END:DAYLIGHT
BEGIN:STANDARD
TZOFFSETFROM:-0400
TZOFFSETTO:-0500
TZNAME:EST
DTSTART:20191103T060000
END:STANDARD
BEGIN:DAYLIGHT
TZOFFSETFROM:-0500
TZOFFSETTO:-0400
TZNAME:EDT
DTSTART:20200308T070000
END:DAYLIGHT
BEGIN:STANDARD
TZOFFSETFROM:-0400
TZOFFSETTO:-0500
TZNAME:EST
DTSTART:20201101T060000
END:STANDARD
END:VTIMEZONE
BEGIN:VTIMEZONE
TZID:UTC
BEGIN:STANDARD
TZOFFSETFROM:+0000
TZOFFSETTO:+0000
TZNAME:UTC
DTSTART:20140101T000000
END:STANDARD
END:VTIMEZONE
BEGIN:VEVENT
DTSTART;VALUE=DATE:20200319
DTEND;VALUE=DATE:20200320
DTSTAMP:20260421T094006
CREATED:20200202T174556Z
LAST-MODIFIED:20200313T011729Z
UID:495-1584576000-1584662399@www.hobokenca.com
SUMMARY:CANCELLED - HCAII (Washington St. location)  Open House
DESCRIPTION:
URL:https://www.hobokenca.com/event/hca-washington-st-open-house-22-2-2-2/
LOCATION:HCA Washington St\, 1131 Washington St\, Hoboken\, NJ\, United States
CATEGORIES:Uncategorized
END:VEVENT
BEGIN:VEVENT
DTSTART;TZID=America/Halifax:20200305T193000
DTEND;TZID=America/Halifax:20200305T203000
DTSTAMP:20260421T094006
CREATED:20191218T023302Z
LAST-MODIFIED:20191218T023302Z
UID:488-1583436600-1583440200@www.hobokenca.com
SUMMARY:HCA 1 (Willow Ave location) Open House
DESCRIPTION:
URL:https://www.hobokenca.com/event/hca-washington-st-open-house-22-2-3/
LOCATION:HCA Willow Ave\, 501 Willow Ave\, Hoboken\, NJ\, United States
CATEGORIES:Uncategorized
END:VEVENT
BEGIN:VEVENT
DTSTART;TZID=America/Halifax:20200116T193000
DTEND;TZID=America/Halifax:20200116T203000
DTSTAMP:20260421T094006
CREATED:20191001T200621Z
LAST-MODIFIED:20191001T200621Z
UID:485-1579203000-1579206600@www.hobokenca.com
SUMMARY:HCAII (Washington St. location)  Open House
DESCRIPTION:
URL:https://www.hobokenca.com/event/hca-washington-st-open-house-22-2-2/
LOCATION:HCA Washington St\, 1131 Washington St\, Hoboken\, NJ\, United States
CATEGORIES:Uncategorized
END:VEVENT
BEGIN:VEVENT
DTSTART;TZID=America/Halifax:20191205T193000
DTEND;TZID=America/Halifax:20191205T203000
DTSTAMP:20260421T094006
CREATED:20191001T144543Z
LAST-MODIFIED:20191001T144830Z
UID:482-1575574200-1575577800@www.hobokenca.com
SUMMARY:HCA 1 (Willow Ave location) Open House
DESCRIPTION:
URL:https://www.hobokenca.com/event/hca-washington-st-open-house-22-2/
LOCATION:HCA Willow Ave\, 501 Willow Ave\, Hoboken\, NJ\, United States
CATEGORIES:Uncategorized
END:VEVENT
BEGIN:VEVENT
DTSTART;TZID=America/Halifax:20191024T193000
DTEND;TZID=America/Halifax:20191024T203000
DTSTAMP:20260421T094006
CREATED:20160328T192835Z
LAST-MODIFIED:20190717T212934Z
UID:401-1571945400-1571949000@www.hobokenca.com
SUMMARY:HCA Washington St Open House
DESCRIPTION:
URL:https://www.hobokenca.com/event/hca-washington-st-open-house-22/
LOCATION:HCA Washington St\, 1131 Washington St\, Hoboken\, NJ\, United States
CATEGORIES:Uncategorized
END:VEVENT
BEGIN:VEVENT
DTSTART;TZID=America/New_York:20190919T193000
DTEND;TZID=America/New_York:20190919T203000
DTSTAMP:20260421T094006
CREATED:20160926T193715Z
LAST-MODIFIED:20190717T212945Z
UID:426-1568921400-1568925000@www.hobokenca.com
SUMMARY:HCA Willow Ave Open House
DESCRIPTION:
URL:https://www.hobokenca.com/event/hca-willow-ave-open-house-19/
LOCATION:HCA Willow Ave\, 501 Willow Ave\, Hoboken\, NJ\, United States
CATEGORIES:Uncategorized
END:VEVENT
BEGIN:VEVENT
DTSTART;TZID=America/New_York:20190207T193000
DTEND;TZID=America/New_York:20190207T203000
DTSTAMP:20260421T094006
CREATED:20160728T012425Z
LAST-MODIFIED:20181024T195035Z
UID:412-1549567800-1549571400@www.hobokenca.com
SUMMARY:HCA Washington St Open House
DESCRIPTION:
URL:https://www.hobokenca.com/event/hca-washington-st-open-house-23/
LOCATION:HCA Washington St\, 1131 Washington St\, Hoboken\, NJ\, United States
CATEGORIES:Uncategorized
END:VEVENT
BEGIN:VEVENT
DTSTART;TZID=America/Halifax:20180913T193000
DTEND;TZID=America/Halifax:20180913T203000
DTSTAMP:20260421T094006
CREATED:20160607T211119Z
LAST-MODIFIED:20180713T154045Z
UID:408-1536867000-1536870600@www.hobokenca.com
SUMMARY:HCA Willow Ave Open House
DESCRIPTION:
URL:https://www.hobokenca.com/event/hca-willow-ave-open-house-17/
LOCATION:HCA Willow Ave\, 501 Willow Ave\, Hoboken\, NJ\, United States
CATEGORIES:Uncategorized
END:VEVENT
BEGIN:VEVENT
DTSTART;TZID=America/Halifax:20180623T090000
DTEND;TZID=America/Halifax:20180623T100000
DTSTAMP:20260421T094006
CREATED:20180604T230153Z
LAST-MODIFIED:20180613T015550Z
UID:455-1529744400-1529748000@www.hobokenca.com
SUMMARY:Employee CPR/First Aid Class
DESCRIPTION:
URL:https://www.hobokenca.com/event/employee-cprfirst-aid-class/
END:VEVENT
BEGIN:VEVENT
DTSTART;TZID=UTC:20170302T193000
DTEND;TZID=UTC:20170302T203000
DTSTAMP:20260421T094006
CREATED:20160728T012359Z
LAST-MODIFIED:20161210T234554Z
UID:411-1488483000-1488486600@www.hobokenca.com
SUMMARY:HCA Willow Ave Open House
DESCRIPTION:
URL:https://www.hobokenca.com/event/hca-willow-ave-open-house-18/
LOCATION:HCA Willow Ave\, 501 Willow Ave\, Hoboken\, NJ\, United States
CATEGORIES:Uncategorized
END:VEVENT
BEGIN:VEVENT
DTSTART;TZID=UTC:20160512T193000
DTEND;TZID=UTC:20160512T203000
DTSTAMP:20260421T094006
CREATED:20160220T033642Z
LAST-MODIFIED:20160220T033642Z
UID:397-1463081400-1463085000@www.hobokenca.com
SUMMARY:HCA Willow Ave Open House
DESCRIPTION:
URL:https://www.hobokenca.com/event/hca-willow-ave-open-house-16/
LOCATION:HCA Willow Ave\, 501 Willow Ave\, Hoboken\, NJ\, United States
CATEGORIES:Uncategorized
END:VEVENT
BEGIN:VEVENT
DTSTART;TZID=UTC:20160303T193000
DTEND;TZID=UTC:20160303T203000
DTSTAMP:20260421T094006
CREATED:20151220T045905Z
LAST-MODIFIED:20151220T045905Z
UID:393-1457033400-1457037000@www.hobokenca.com
SUMMARY:HCA Washington St Open House
DESCRIPTION:
URL:https://www.hobokenca.com/event/hca-washington-st-open-house-21/
LOCATION:HCA Washington St\, 1131 Washington St\, Hoboken\, NJ\, United States
CATEGORIES:Uncategorized
END:VEVENT
BEGIN:VEVENT
DTSTART;TZID=UTC:20151202T193000
DTEND;TZID=UTC:20151202T203000
DTSTAMP:20260421T094006
CREATED:20151006T193000Z
LAST-MODIFIED:20151111T054932Z
UID:385-1449084600-1449088200@www.hobokenca.com
SUMMARY:HCA Washington St Open House ****CHANGE IN DATE ****
DESCRIPTION:
URL:https://www.hobokenca.com/event/hca-washington-st-open-house-20/
LOCATION:HCA Washington St\, 1131 Washington St\, Hoboken\, NJ\, United States
CATEGORIES:Uncategorized
END:VEVENT
BEGIN:VEVENT
DTSTART;TZID=America/Halifax:20151021T193000
DTEND;TZID=America/Halifax:20151021T203000
DTSTAMP:20260421T094006
CREATED:20150511T191853Z
LAST-MODIFIED:20150819T191200Z
UID:358-1445455800-1445459400@www.hobokenca.com
SUMMARY:HCA Willow Ave Open House
DESCRIPTION:
URL:https://www.hobokenca.com/event/hca-willow-ave-open-house-14/
LOCATION:HCA Willow Ave\, 501 Willow Ave\, Hoboken\, NJ\, United States
CATEGORIES:Uncategorized
END:VEVENT
BEGIN:VEVENT
DTSTART;TZID=America/Halifax:20150916T193000
DTEND;TZID=America/Halifax:20150916T203000
DTSTAMP:20260421T094006
CREATED:20150511T191823Z
LAST-MODIFIED:20150819T191130Z
UID:357-1442431800-1442435400@www.hobokenca.com
SUMMARY:HCA Washington St Open House
DESCRIPTION:
URL:https://www.hobokenca.com/event/hca-washington-st-open-house-19/
LOCATION:HCA Washington St\, 1131 Washington St\, Hoboken\, NJ\, United States
CATEGORIES:Uncategorized
END:VEVENT
BEGIN:VEVENT
DTSTART;TZID=America/Halifax:20150423T193000
DTEND;TZID=America/Halifax:20150423T203000
DTSTAMP:20260421T094006
CREATED:20141216T003711Z
LAST-MODIFIED:20141216T003711Z
UID:354-1429817400-1429821000@www.hobokenca.com
SUMMARY:HCA Washington St Open House
DESCRIPTION:
URL:https://www.hobokenca.com/event/hca-washington-st-open-house-18/
CATEGORIES:Uncategorized
END:VEVENT
BEGIN:VEVENT
DTSTART;TZID=America/Halifax:20150422T193000
DTEND;TZID=America/Halifax:20150422T203000
DTSTAMP:20260421T094006
CREATED:20141216T003723Z
LAST-MODIFIED:20141216T003723Z
UID:355-1429731000-1429734600@www.hobokenca.com
SUMMARY:HCA Willow Ave Open House
DESCRIPTION:
URL:https://www.hobokenca.com/event/hca-willow-ave-open-house-13/
CATEGORIES:Uncategorized
END:VEVENT
BEGIN:VEVENT
DTSTART;TZID=America/Halifax:20141210T193000
DTEND;TZID=America/Halifax:20141210T203000
DTSTAMP:20260421T094006
CREATED:20140813T200720Z
LAST-MODIFIED:20140813T200720Z
UID:349-1418239800-1418243400@www.hobokenca.com
SUMMARY:HCA Washington St Open House
DESCRIPTION:
URL:https://www.hobokenca.com/event/hca-washington-st-open-house-17/
CATEGORIES:Uncategorized
END:VEVENT
BEGIN:VEVENT
DTSTART;TZID=America/Halifax:20141209T193000
DTEND;TZID=America/Halifax:20141209T203000
DTSTAMP:20260421T094006
CREATED:20140813T200710Z
LAST-MODIFIED:20140813T200710Z
UID:348-1418153400-1418157000@www.hobokenca.com
SUMMARY:HCA Willow Ave Open House
DESCRIPTION:
URL:https://www.hobokenca.com/event/hca-willow-ave-open-house-12/
CATEGORIES:Uncategorized
END:VEVENT
BEGIN:VEVENT
DTSTART;TZID=America/Halifax:20140806T193000
DTEND;TZID=America/Halifax:20140806T203000
DTSTAMP:20260421T094006
CREATED:20140521T194958Z
LAST-MODIFIED:20140521T194958Z
UID:345-1407353400-1407357000@www.hobokenca.com
SUMMARY:HCA Washington St Open House
DESCRIPTION:
URL:https://www.hobokenca.com/event/hca-washington-st-open-house-16/
CATEGORIES:Uncategorized
END:VEVENT
BEGIN:VEVENT
DTSTART;TZID=America/Halifax:20140805T193000
DTEND;TZID=America/Halifax:20140805T203000
DTSTAMP:20260421T094006
CREATED:20140521T195018Z
LAST-MODIFIED:20140521T195018Z
UID:346-1407267000-1407270600@www.hobokenca.com
SUMMARY:HCA Willow Ave Open House
DESCRIPTION:
URL:https://www.hobokenca.com/event/hca-willow-ave-open-house-11/
CATEGORIES:Uncategorized
END:VEVENT
BEGIN:VEVENT
DTSTART;TZID=America/Halifax:20140507T193000
DTEND;TZID=America/Halifax:20140507T203000
DTSTAMP:20260421T094006
CREATED:20140126T021723Z
LAST-MODIFIED:20140126T021723Z
UID:337-1399491000-1399494600@www.hobokenca.com
SUMMARY:HCA Washington St Open House
DESCRIPTION:
URL:https://www.hobokenca.com/event/hca-washington-st-open-house-15/
CATEGORIES:Uncategorized
END:VEVENT
BEGIN:VEVENT
DTSTART;TZID=America/Halifax:20140506T193000
DTEND;TZID=America/Halifax:20140506T203000
DTSTAMP:20260421T094006
CREATED:20140126T021745Z
LAST-MODIFIED:20140126T021745Z
UID:336-1399404600-1399408200@www.hobokenca.com
SUMMARY:HCA Willow Ave Open House
DESCRIPTION:
URL:https://www.hobokenca.com/event/hca-willow-ave-open-house-10/
CATEGORIES:Uncategorized
END:VEVENT
BEGIN:VEVENT
DTSTART;TZID=America/Halifax:20140115T193000
DTEND;TZID=America/Halifax:20140115T204500
DTSTAMP:20260421T094006
CREATED:20131111T201609Z
LAST-MODIFIED:20131111T201609Z
UID:333-1389814200-1389818700@www.hobokenca.com
SUMMARY:HCA Washington St Open House
DESCRIPTION:
URL:https://www.hobokenca.com/event/hca-washington-st-open-house-14/
CATEGORIES:Uncategorized
END:VEVENT
BEGIN:VEVENT
DTSTART;TZID=America/Halifax:20140114T193000
DTEND;TZID=America/Halifax:20140114T204500
DTSTAMP:20260421T094006
CREATED:20131111T201841Z
LAST-MODIFIED:20131111T201841Z
UID:334-1389727800-1389732300@www.hobokenca.com
SUMMARY:HCA Willow Ave Open House
DESCRIPTION:
URL:https://www.hobokenca.com/event/hca-willow-ave-open-house-9/
CATEGORIES:Uncategorized
END:VEVENT
BEGIN:VEVENT
DTSTART;TZID=America/Halifax:20131024T193000
DTEND;TZID=America/Halifax:20131024T204500
DTSTAMP:20260421T094006
CREATED:20130718T203241Z
LAST-MODIFIED:20130718T203241Z
UID:330-1382643000-1382647500@www.hobokenca.com
SUMMARY:HCA Washington St Open House
DESCRIPTION:
URL:https://www.hobokenca.com/event/hca-washington-st-open-house-13/
CATEGORIES:Uncategorized
END:VEVENT
BEGIN:VEVENT
DTSTART;TZID=America/Halifax:20131022T193000
DTEND;TZID=America/Halifax:20131022T204500
DTSTAMP:20260421T094006
CREATED:20130718T203306Z
LAST-MODIFIED:20130718T203306Z
UID:331-1382470200-1382474700@www.hobokenca.com
SUMMARY:HCA Willow Ave Open House
DESCRIPTION:
URL:https://www.hobokenca.com/event/hca-willow-ave-open-house-8/
CATEGORIES:Uncategorized
END:VEVENT
BEGIN:VEVENT
DTSTART;TZID=America/Halifax:20130710T193000
DTEND;TZID=America/Halifax:20130710T204559
DTSTAMP:20260421T094006
CREATED:20130417T234957Z
LAST-MODIFIED:20130417T235026Z
UID:328-1373484600-1373489159@www.hobokenca.com
SUMMARY:HCA Washington St Open House
DESCRIPTION:
URL:https://www.hobokenca.com/event/hca-washington-st-open-house-12/
CATEGORIES:Uncategorized
END:VEVENT
BEGIN:VEVENT
DTSTART;TZID=America/Halifax:20130709T193000
DTEND;TZID=America/Halifax:20130709T204559
DTSTAMP:20260421T094006
CREATED:20130417T234919Z
LAST-MODIFIED:20130417T234951Z
UID:327-1373398200-1373402759@www.hobokenca.com
SUMMARY:HCA Willow Ave Open House
DESCRIPTION:
URL:https://www.hobokenca.com/event/hca-willow-ave-open-house-7/
CATEGORIES:Uncategorized
END:VEVENT
BEGIN:VEVENT
DTSTART;TZID=America/Halifax:20130406T103000
DTEND;TZID=America/Halifax:20130406T114559
DTSTAMP:20260421T094006
CREATED:20130122T194330Z
LAST-MODIFIED:20130122T194345Z
UID:326-1365244200-1365248759@www.hobokenca.com
SUMMARY:HCA Washington St Open House
DESCRIPTION:
URL:https://www.hobokenca.com/event/hca-washington-st-open-house-11/
CATEGORIES:Uncategorized
END:VEVENT
END:VCALENDAR