BEGIN:VCALENDAR
VERSION:2.0
PRODID:-//Hoboken Children&#039;s Academy - ECPv6.15.20//NONSGML v1.0//EN
CALSCALE:GREGORIAN
METHOD:PUBLISH
X-WR-CALNAME:Hoboken Children&#039;s Academy
X-ORIGINAL-URL:https://www.hobokenca.com
X-WR-CALDESC:Events for Hoboken Children&#039;s Academy
REFRESH-INTERVAL;VALUE=DURATION:PT1H
X-Robots-Tag:noindex
X-PUBLISHED-TTL:PT1H
BEGIN:VTIMEZONE
TZID:America/Halifax
BEGIN:DAYLIGHT
TZOFFSETFROM:-0400
TZOFFSETTO:-0300
TZNAME:ADT
DTSTART:20100314T060000
END:DAYLIGHT
BEGIN:STANDARD
TZOFFSETFROM:-0300
TZOFFSETTO:-0400
TZNAME:AST
DTSTART:20101107T050000
END:STANDARD
BEGIN:DAYLIGHT
TZOFFSETFROM:-0400
TZOFFSETTO:-0300
TZNAME:ADT
DTSTART:20110313T060000
END:DAYLIGHT
BEGIN:STANDARD
TZOFFSETFROM:-0300
TZOFFSETTO:-0400
TZNAME:AST
DTSTART:20111106T050000
END:STANDARD
BEGIN:DAYLIGHT
TZOFFSETFROM:-0400
TZOFFSETTO:-0300
TZNAME:ADT
DTSTART:20120311T060000
END:DAYLIGHT
BEGIN:STANDARD
TZOFFSETFROM:-0300
TZOFFSETTO:-0400
TZNAME:AST
DTSTART:20121104T050000
END:STANDARD
BEGIN:DAYLIGHT
TZOFFSETFROM:-0400
TZOFFSETTO:-0300
TZNAME:ADT
DTSTART:20130310T060000
END:DAYLIGHT
BEGIN:STANDARD
TZOFFSETFROM:-0300
TZOFFSETTO:-0400
TZNAME:AST
DTSTART:20131103T050000
END:STANDARD
BEGIN:DAYLIGHT
TZOFFSETFROM:-0400
TZOFFSETTO:-0300
TZNAME:ADT
DTSTART:20140309T060000
END:DAYLIGHT
BEGIN:STANDARD
TZOFFSETFROM:-0300
TZOFFSETTO:-0400
TZNAME:AST
DTSTART:20141102T050000
END:STANDARD
BEGIN:DAYLIGHT
TZOFFSETFROM:-0400
TZOFFSETTO:-0300
TZNAME:ADT
DTSTART:20150308T060000
END:DAYLIGHT
BEGIN:STANDARD
TZOFFSETFROM:-0300
TZOFFSETTO:-0400
TZNAME:AST
DTSTART:20151101T050000
END:STANDARD
END:VTIMEZONE
BEGIN:VEVENT
DTSTART;TZID=America/Halifax:20140805T193000
DTEND;TZID=America/Halifax:20140805T203000
DTSTAMP:20260421T133020
CREATED:20140521T195018Z
LAST-MODIFIED:20140521T195018Z
UID:346-1407267000-1407270600@www.hobokenca.com
SUMMARY:HCA Willow Ave Open House
DESCRIPTION:
URL:https://www.hobokenca.com/event/hca-willow-ave-open-house-11/
CATEGORIES:Uncategorized
END:VEVENT
BEGIN:VEVENT
DTSTART;TZID=America/Halifax:20140507T193000
DTEND;TZID=America/Halifax:20140507T203000
DTSTAMP:20260421T133020
CREATED:20140126T021723Z
LAST-MODIFIED:20140126T021723Z
UID:337-1399491000-1399494600@www.hobokenca.com
SUMMARY:HCA Washington St Open House
DESCRIPTION:
URL:https://www.hobokenca.com/event/hca-washington-st-open-house-15/
CATEGORIES:Uncategorized
END:VEVENT
BEGIN:VEVENT
DTSTART;TZID=America/Halifax:20140506T193000
DTEND;TZID=America/Halifax:20140506T203000
DTSTAMP:20260421T133020
CREATED:20140126T021745Z
LAST-MODIFIED:20140126T021745Z
UID:336-1399404600-1399408200@www.hobokenca.com
SUMMARY:HCA Willow Ave Open House
DESCRIPTION:
URL:https://www.hobokenca.com/event/hca-willow-ave-open-house-10/
CATEGORIES:Uncategorized
END:VEVENT
BEGIN:VEVENT
DTSTART;TZID=America/Halifax:20140115T193000
DTEND;TZID=America/Halifax:20140115T204500
DTSTAMP:20260421T133020
CREATED:20131111T201609Z
LAST-MODIFIED:20131111T201609Z
UID:333-1389814200-1389818700@www.hobokenca.com
SUMMARY:HCA Washington St Open House
DESCRIPTION:
URL:https://www.hobokenca.com/event/hca-washington-st-open-house-14/
CATEGORIES:Uncategorized
END:VEVENT
BEGIN:VEVENT
DTSTART;TZID=America/Halifax:20140114T193000
DTEND;TZID=America/Halifax:20140114T204500
DTSTAMP:20260421T133020
CREATED:20131111T201841Z
LAST-MODIFIED:20131111T201841Z
UID:334-1389727800-1389732300@www.hobokenca.com
SUMMARY:HCA Willow Ave Open House
DESCRIPTION:
URL:https://www.hobokenca.com/event/hca-willow-ave-open-house-9/
CATEGORIES:Uncategorized
END:VEVENT
BEGIN:VEVENT
DTSTART;TZID=America/Halifax:20131024T193000
DTEND;TZID=America/Halifax:20131024T204500
DTSTAMP:20260421T133020
CREATED:20130718T203241Z
LAST-MODIFIED:20130718T203241Z
UID:330-1382643000-1382647500@www.hobokenca.com
SUMMARY:HCA Washington St Open House
DESCRIPTION:
URL:https://www.hobokenca.com/event/hca-washington-st-open-house-13/
CATEGORIES:Uncategorized
END:VEVENT
BEGIN:VEVENT
DTSTART;TZID=America/Halifax:20131022T193000
DTEND;TZID=America/Halifax:20131022T204500
DTSTAMP:20260421T133020
CREATED:20130718T203306Z
LAST-MODIFIED:20130718T203306Z
UID:331-1382470200-1382474700@www.hobokenca.com
SUMMARY:HCA Willow Ave Open House
DESCRIPTION:
URL:https://www.hobokenca.com/event/hca-willow-ave-open-house-8/
CATEGORIES:Uncategorized
END:VEVENT
BEGIN:VEVENT
DTSTART;TZID=America/Halifax:20130710T193000
DTEND;TZID=America/Halifax:20130710T204559
DTSTAMP:20260421T133020
CREATED:20130417T234957Z
LAST-MODIFIED:20130417T235026Z
UID:328-1373484600-1373489159@www.hobokenca.com
SUMMARY:HCA Washington St Open House
DESCRIPTION:
URL:https://www.hobokenca.com/event/hca-washington-st-open-house-12/
CATEGORIES:Uncategorized
END:VEVENT
BEGIN:VEVENT
DTSTART;TZID=America/Halifax:20130709T193000
DTEND;TZID=America/Halifax:20130709T204559
DTSTAMP:20260421T133020
CREATED:20130417T234919Z
LAST-MODIFIED:20130417T234951Z
UID:327-1373398200-1373402759@www.hobokenca.com
SUMMARY:HCA Willow Ave Open House
DESCRIPTION:
URL:https://www.hobokenca.com/event/hca-willow-ave-open-house-7/
CATEGORIES:Uncategorized
END:VEVENT
BEGIN:VEVENT
DTSTART;TZID=America/Halifax:20130406T103000
DTEND;TZID=America/Halifax:20130406T114559
DTSTAMP:20260421T133020
CREATED:20130122T194330Z
LAST-MODIFIED:20130122T194345Z
UID:326-1365244200-1365248759@www.hobokenca.com
SUMMARY:HCA Washington St Open House
DESCRIPTION:
URL:https://www.hobokenca.com/event/hca-washington-st-open-house-11/
CATEGORIES:Uncategorized
END:VEVENT
BEGIN:VEVENT
DTSTART;TZID=America/Halifax:20130406T090000
DTEND;TZID=America/Halifax:20130406T101559
DTSTAMP:20260421T133020
CREATED:20130122T194255Z
LAST-MODIFIED:20130122T194322Z
UID:325-1365238800-1365243359@www.hobokenca.com
SUMMARY:HCA Willow Ave Open House
DESCRIPTION:
URL:https://www.hobokenca.com/event/hca-willow-ave-open-house-6/
CATEGORIES:Uncategorized
END:VEVENT
BEGIN:VEVENT
DTSTART;TZID=America/Halifax:20130112T103000
DTEND;TZID=America/Halifax:20130112T114559
DTSTAMP:20260421T133020
CREATED:20121106T065317Z
LAST-MODIFIED:20121106T065327Z
UID:324-1357986600-1357991159@www.hobokenca.com
SUMMARY:HCA Washington St Open House
DESCRIPTION:
URL:https://www.hobokenca.com/event/hca-washington-st-open-house-10/
CATEGORIES:Uncategorized
END:VEVENT
BEGIN:VEVENT
DTSTART;TZID=America/Halifax:20130112T090000
DTEND;TZID=America/Halifax:20130112T101559
DTSTAMP:20260421T133020
CREATED:20121106T065256Z
LAST-MODIFIED:20121106T065307Z
UID:323-1357981200-1357985759@www.hobokenca.com
SUMMARY:HCA Willow Ave Open House
DESCRIPTION:
URL:https://www.hobokenca.com/event/hca-willow-ave-open-house-5/
CATEGORIES:Uncategorized
END:VEVENT
BEGIN:VEVENT
DTSTART;TZID=America/Halifax:20121117T103000
DTEND;TZID=America/Halifax:20121117T114559
DTSTAMP:20260421T133020
CREATED:20121106T065238Z
LAST-MODIFIED:20121106T065250Z
UID:322-1353148200-1353152759@www.hobokenca.com
SUMMARY:HCA Washington St Open House
DESCRIPTION:
URL:https://www.hobokenca.com/event/hca-washington-st-open-house-9/
CATEGORIES:Uncategorized
END:VEVENT
BEGIN:VEVENT
DTSTART;TZID=America/Halifax:20121117T090000
DTEND;TZID=America/Halifax:20121117T101559
DTSTAMP:20260421T133020
CREATED:20120919T173044Z
LAST-MODIFIED:20121106T065231Z
UID:318-1353142800-1353147359@www.hobokenca.com
SUMMARY:HCA Willow Ave Open House
DESCRIPTION:
URL:https://www.hobokenca.com/event/hca-willow-ave-open-house-4/
CATEGORIES:Uncategorized
END:VEVENT
BEGIN:VEVENT
DTSTART;TZID=America/Halifax:20120915T093000
DTEND;TZID=America/Halifax:20120915T110059
DTSTAMP:20260421T133020
CREATED:20120823T162946Z
LAST-MODIFIED:20120823T163019Z
UID:317-1347701400-1347706859@www.hobokenca.com
SUMMARY:HCA Washington St Open House
DESCRIPTION:
URL:https://www.hobokenca.com/event/hca-washington-st-open-house-7/
CATEGORIES:Uncategorized
END:VEVENT
BEGIN:VEVENT
DTSTART;TZID=America/Halifax:20120908T090000
DTEND;TZID=America/Halifax:20120908T103059
DTSTAMP:20260421T133020
CREATED:20120620T184659Z
LAST-MODIFIED:20120620T185108Z
UID:309-1347094800-1347100259@www.hobokenca.com
SUMMARY:HCA Willow Ave Open House
DESCRIPTION:
URL:https://www.hobokenca.com/event/hca-willow-ave-open-house-3/
CATEGORIES:Uncategorized
END:VEVENT
BEGIN:VEVENT
DTSTART;TZID=America/Halifax:20120728T090000
DTEND;TZID=America/Halifax:20120728T110000
DTSTAMP:20260421T133020
CREATED:20120506T001555Z
LAST-MODIFIED:20120506T001621Z
UID:307-1343466000-1343473200@www.hobokenca.com
SUMMARY:HCA Washington St Open House
DESCRIPTION:
URL:https://www.hobokenca.com/event/hca-washington-st-open-house-6/
CATEGORIES:Uncategorized
END:VEVENT
BEGIN:VEVENT
DTSTART;TZID=America/Halifax:20120609T090000
DTEND;TZID=America/Halifax:20120609T103000
DTSTAMP:20260421T133020
CREATED:20120427T043336Z
LAST-MODIFIED:20120427T043402Z
UID:303-1339232400-1339237800@www.hobokenca.com
SUMMARY:HCA Willow Ave Open House
DESCRIPTION:
URL:https://www.hobokenca.com/event/hca-willow-ave-open-house-2/
CATEGORIES:Uncategorized
END:VEVENT
BEGIN:VEVENT
DTSTART;TZID=America/Halifax:20120602T093000
DTEND;TZID=America/Halifax:20120602T110000
DTSTAMP:20260421T133020
CREATED:20120506T001521Z
LAST-MODIFIED:20120506T001545Z
UID:305-1338629400-1338634800@www.hobokenca.com
SUMMARY:HCA Washington St Open House
DESCRIPTION:
URL:https://www.hobokenca.com/event/hca-washington-st-open-house-5/
CATEGORIES:Uncategorized
END:VEVENT
BEGIN:VEVENT
DTSTART;TZID=America/Halifax:20120505T093000
DTEND;TZID=America/Halifax:20120505T110000
DTSTAMP:20260421T133020
CREATED:20120324T180940Z
LAST-MODIFIED:20120324T181011Z
UID:297-1336210200-1336215600@www.hobokenca.com
SUMMARY:HCA Washington St Open House
DESCRIPTION:
URL:https://www.hobokenca.com/event/hca-washington-st-open-house-4/
CATEGORIES:Uncategorized
END:VEVENT
BEGIN:VEVENT
DTSTART;TZID=America/Halifax:20120414T090000
DTEND;TZID=America/Halifax:20120414T103000
DTSTAMP:20260421T133020
CREATED:20120324T181027Z
LAST-MODIFIED:20120324T181344Z
UID:299-1334394000-1334399400@www.hobokenca.com
SUMMARY:HCA Willow Ave Open House
DESCRIPTION:
URL:https://www.hobokenca.com/event/hoboken-willow-ave-open-house-3/
CATEGORIES:Uncategorized
END:VEVENT
BEGIN:VEVENT
DTSTART;TZID=America/Halifax:20120324T093000
DTEND;TZID=America/Halifax:20120324T110000
DTSTAMP:20260421T133020
CREATED:20120313T235924Z
LAST-MODIFIED:20120313T235953Z
UID:292-1332581400-1332586800@www.hobokenca.com
SUMMARY:HCA Washington St Open House
DESCRIPTION:
URL:https://www.hobokenca.com/event/hca-washington-st-open-house-3/
CATEGORIES:Uncategorized
END:VEVENT
BEGIN:VEVENT
DTSTART;TZID=America/Halifax:20120310T090000
DTEND;TZID=America/Halifax:20120310T103000
DTSTAMP:20260421T133020
CREATED:20120112T221213Z
LAST-MODIFIED:20120112T221249Z
UID:286-1331370000-1331375400@www.hobokenca.com
SUMMARY:Hoboken Willow Ave Open House
DESCRIPTION:
URL:https://www.hobokenca.com/event/hoboken-willow-ave-open-house-2/
CATEGORIES:Uncategorized
END:VEVENT
BEGIN:VEVENT
DTSTART;TZID=America/Halifax:20120128T103000
DTEND;TZID=America/Halifax:20120128T113000
DTSTAMP:20260421T133020
CREATED:20111202T223421Z
LAST-MODIFIED:20111202T224942Z
UID:271-1327746600-1327750200@www.hobokenca.com
SUMMARY:HCA Washington St Open House
DESCRIPTION:
URL:https://www.hobokenca.com/event/hca-washington-st-open-house-2/
LOCATION:Unnamed Venue\, Hoboken\, NJ\, United States
CATEGORIES:Uncategorized
END:VEVENT
BEGIN:VEVENT
DTSTART;TZID=America/Halifax:20120107T090000
DTEND;TZID=America/Halifax:20120107T103000
DTSTAMP:20260421T133020
CREATED:20111114T155158Z
LAST-MODIFIED:20111114T155345Z
UID:265-1325926800-1325932200@www.hobokenca.com
SUMMARY:Hoboken Willow Ave Open House
DESCRIPTION:
URL:https://www.hobokenca.com/event/hoboken-willow-ave-open-house/
LOCATION:Unnamed Venue\, Hoboken\, NJ\, United States
END:VEVENT
BEGIN:VEVENT
DTSTART;TZID=America/Halifax:20111119T100000
DTEND;TZID=America/Halifax:20111119T113000
DTSTAMP:20260421T133020
CREATED:20111023T083638Z
LAST-MODIFIED:20111102T180456Z
UID:232-1321696800-1321702200@www.hobokenca.com
SUMMARY:HCA Washington St Open House
DESCRIPTION:
URL:https://www.hobokenca.com/event/hca-washington-st-open-house/
LOCATION:HCA Washington St\, 1131 Washington St\, Hoboken\, NJ\, United States
CATEGORIES:Uncategorized
END:VEVENT
BEGIN:VEVENT
DTSTART;TZID=America/Halifax:20111112T090000
DTEND;TZID=America/Halifax:20111112T103000
DTSTAMP:20260421T133020
CREATED:20111023T083428Z
LAST-MODIFIED:20111102T180423Z
UID:228-1321088400-1321093800@www.hobokenca.com
SUMMARY:HCA Willow Ave Open House
DESCRIPTION:
URL:https://www.hobokenca.com/event/hca-willow-ave-open-house/
LOCATION:HCA Willow Ave\, 501 Willow Ave\, Hoboken\, NJ\, United States
END:VEVENT
BEGIN:VEVENT
DTSTART;TZID=America/Halifax:20111020T080000
DTEND;TZID=America/Halifax:20111020T080000
DTSTAMP:20260421T133020
CREATED:20111010T064706Z
LAST-MODIFIED:20111010T064706Z
UID:72-1319097600-1319097600@www.hobokenca.com
SUMMARY:Open House
DESCRIPTION:
URL:https://www.hobokenca.com/event/open-house/
LOCATION:HCA Willow Ave
END:VEVENT
END:VCALENDAR